Workbook

Sheet JUNIO CON AJUSTE
A1: En cumplimiento a lo dispuesto en el artículo 11 párrafo último de la Ley de Coordinación Fiscal para el Estado de Oaxaca y numeral 5 fracción II, inciso b del Acuerdo por el que se expiden los Lineamientos para la publicación de la información a que se refiere el articulo 6o. de la Ley de Coordinación Fiscal.
A2: I. Importe de las Participaciones pagadas a los Municipios del Estado de Oaxaca correspondiente al mes de JUNIO de 2026, incluye los Ajustes Definitivos 2025 (Negativos) del Fondo General de Participaciones y del Fondo de Fiscalización y Recaudación, asi como el 1er Ajuste Cuatrimestral 2026 del Fondo General de Participaciones, del Fondo de Fomento Municipal y del Fondo de Impuesto Especial de Producción y Servicios y el Impuesto Sobre la Venta Final de Bebidas con Contenido Alcohólico correspondiente al Ejercicio 2024.
A3: CLAVE | B3: MUNICIPIO | C3: FONDO GENERAL DE PARTICIPACIONES | D3: FONDO DE FOMENTO MUNICIPAL | E3: FONDO DE IMPUESTOS ESPECIALES SOBRE PRODUCCION Y SERVICIOS | F3: FONDO DE FISCALIZACION Y RECAUDACIÓN | G3: FONDO DE COMPENSACION | H3: IMPUESTO SOBRE AUTOMÓVILES NUEVOS | I3: IMPUESTO A LAS VENTAS FINALES DE GASOLINAS Y DIESEL | J3: FONDO DE COMPENSACION DEL IMPUESTO SOBRE AUTOMOVILES NUEVOS | K3: ISR ARTICULO 126 | L3: ISR 3-B | M3: IMPUESTO SOBRE LA VENTA FINAL DE BEBIDAS CON CONTENIDO ALCOHÓLICO (CORRESPONDIENTE AL EJERCICIO 2024) | N3: HIDROCARBUROS | O3: TOTAL
A4: 1 | B4: ABEJONES | C4: ='1ER AJUST. CUATRIMESTRAL'!C4+'JUNIO ORDINARIO'!C4 -> 149651.86 | D4: ='1ER AJUST. CUATRIMESTRAL'!D4+'JUNIO ORDINARIO'!D4 -> 53141.6 | E4: ='1ER AJUST. CUATRIMESTRAL'!E4+'JUNIO ORDINARIO'!E4 -> 2380.13 | F4: 5654.05 | G4: 2166.32 | H4: 674.21 | I4: 1639.87 | J4: 458.79 | K4: 170.09 | L4: 0 | M4: 2149.73 | N4: 0 | O4: =SUM(C4:N4) -> 218086.65
A5: 2 | B5: ACATLAN DE PEREZ FIGUEROA | C5: ='1ER AJUST. CUATRIMESTRAL'!C5+'JUNIO ORDINARIO'!C5 -> 4188187.2 | D5: ='1ER AJUST. CUATRIMESTRAL'!D5+'JUNIO ORDINARIO'!D5 -> 2548956 | E5: ='1ER AJUST. CUATRIMESTRAL'!E5+'JUNIO ORDINARIO'!E5 -> 54973.89 | F5: 54990.75 | G5: 115746.71 | H5: 18922.27 | I5: 95418.01 | J5: 6016.5 | K5: 10912.76 | L5: 0 | M5: 13927.81 | N5: 42150.05 | O5: =SUM(C5:N5) -> 7150201.9
A6: 3 | B6: ASUNCION CACALOTEPEC | C6: ='1ER AJUST. CUATRIMESTRAL'!C6+'JUNIO ORDINARIO'!C6 -> 258930.53 | D6: ='1ER AJUST. CUATRIMESTRAL'!D6+'JUNIO ORDINARIO'!D6 -> 49565.6 | E6: ='1ER AJUST. CUATRIMESTRAL'!E6+'JUNIO ORDINARIO'!E6 -> 3709.78 | F6: 6004.25 | G6: 6644.58 | H6: 1169.79 | I6: 4996.19 | J6: 542.95 | K6: 522.32 | L6: 0 | M6: 2603.04 | N6: 0 | O6: =SUM(C6:N6) -> 334689.03
A7: 4 | B7: ASUNCION CUYOTEPEJI | C7: ='1ER AJUST. CUATRIMESTRAL'!C7+'JUNIO ORDINARIO'!C7 -> 151564.03 | D7: ='1ER AJUST. CUATRIMESTRAL'!D7+'JUNIO ORDINARIO'!D7 -> 83093.77 | E7: ='1ER AJUST. CUATRIMESTRAL'!E7+'JUNIO ORDINARIO'!E7 -> 2155.66 | F7: 3316.59 | G7: 2811.64 | H7: 685.94 | I7: 2541.92 | J7: 333.14 | K7: 316.67 | L7: 0 | M7: 2220.41 | N7: 0 | O7: =SUM(C7:N7) -> 249039.77
A8: 5 | B8: ASUNCION IXTALTEPEC | C8: ='1ER AJUST. CUATRIMESTRAL'!C8+'JUNIO ORDINARIO'!C8 -> 2250712.5 | D8: ='1ER AJUST. CUATRIMESTRAL'!D8+'JUNIO ORDINARIO'!D8 -> 535123.2 | E8: ='1ER AJUST. CUATRIMESTRAL'!E8+'JUNIO ORDINARIO'!E8 -> 28740.76 | F8: 30469.24 | G8: 38470.2 | H8: 10077.27 | I8: 40451.95 | J8: 3066.47 | K8: 5674.62 | L8: 0 | M8: 5981.34 | N8: 0 | O8: =SUM(C8:N8) -> 2948767.6
A9: 6 | B9: ASUNCION NOCHIXTLAN | C9: ='1ER AJUST. CUATRIMESTRAL'!C9+'JUNIO ORDINARIO'!C9 -> 2944728.6 | D9: ='1ER AJUST. CUATRIMESTRAL'!D9+'JUNIO ORDINARIO'!D9 -> 1229232.6 | E9: ='1ER AJUST. CUATRIMESTRAL'!E9+'JUNIO ORDINARIO'!E9 -> 35870.33 | F9: 22490.13 | G9: 52017.61 | H9: 13237.39 | I9: 57890.61 | J9: 3054.98 | K9: 8491.95 | L9: 137987 | M9: 7363.86 | N9: 0 | O9: =SUM(C9:N9) -> 4512365
A10: 7 | B10: ASUNCION OCOTLAN | C10: ='1ER AJUST. CUATRIMESTRAL'!C10+'JUNIO ORDINARIO'!C10 -> 307178.1 | D10: ='1ER AJUST. CUATRIMESTRAL'!D10+'JUNIO ORDINARIO'!D10 -> 84463.28 | E10: ='1ER AJUST. CUATRIMESTRAL'!E10+'JUNIO ORDINARIO'!E10 -> 4513.85 | F10: 9098.52 | G10: 6402.23 | H10: 1378.24 | I10: 4669.95 | J10: 779.03 | K10: 484.36 | L10: 0 | M10: 2562.66 | N10: 0 | O10: =SUM(C10:N10) -> 421530.22
A11: 8 | B11: ASUNCION TLACOLULITA | C11: ='1ER AJUST. CUATRIMESTRAL'!C11+'JUNIO ORDINARIO'!C11 -> 155253.01 | D11: ='1ER AJUST. CUATRIMESTRAL'!D11+'JUNIO ORDINARIO'!D11 -> 61176.96 | E11: ='1ER AJUST. CUATRIMESTRAL'!E11+'JUNIO ORDINARIO'!E11 -> 2207.77 | F11: 4012.46 | G11: 1880.88 | H11: 695.52 | I11: 1975.32 | J11: 330.59 | K11: 280.12 | L11: 0 | M11: 2121.3 | N11: 0 | O11: =SUM(C11:N11) -> 229933.93
A12: 9 | B12: AYOTZINTEPEC | C12: ='1ER AJUST. CUATRIMESTRAL'!C12+'JUNIO ORDINARIO'!C12 -> 597998.5 | D12: ='1ER AJUST. CUATRIMESTRAL'!D12+'JUNIO ORDINARIO'!D12 -> 167022.62 | E12: ='1ER AJUST. CUATRIMESTRAL'!E12+'JUNIO ORDINARIO'!E12 -> 7772.74 | F12: 9868.05 | G12: 17631.09 | H12: 2679.42 | I12: 13370.3 | J12: 1043.47 | K12: 1386.75 | L12: 0 | M12: 3748.28 | N12: 0 | O12: =SUM(C12:N12) -> 822521.22
A13: 10 | B13: EL BARRIO DE LA SOLEDAD | C13: ='1ER AJUST. CUATRIMESTRAL'!C13+'JUNIO ORDINARIO'!C13 -> 2882587.1 | D13: ='1ER AJUST. CUATRIMESTRAL'!D13+'JUNIO ORDINARIO'!D13 -> 625444.43 | E13: ='1ER AJUST. CUATRIMESTRAL'!E13+'JUNIO ORDINARIO'!E13 -> 36619.75 | F13: 4273.32 | G13: 33900.22 | H13: 13234.42 | I13: 55996.54 | J13: 1892.22 | K13: 9918.43 | L13: 0 | M13: 5506.51 | N13: 0 | O13: =SUM(C13:N13) -> 3669372.9
A14: 11 | B14: CALIHUALA | C14: ='1ER AJUST. CUATRIMESTRAL'!C14+'JUNIO ORDINARIO'!C14 -> 162464.9 | D14: ='1ER AJUST. CUATRIMESTRAL'!D14+'JUNIO ORDINARIO'!D14 -> 83353.62 | E14: ='1ER AJUST. CUATRIMESTRAL'!E14+'JUNIO ORDINARIO'!E14 -> 2416.32 | F14: 4386.5 | G14: 3669.32 | H14: 734.73 | I14: 2776.56 | J14: 380.36 | K14: 293.9 | L14: 0 | M14: 2298.8 | N14: 0 | O14: =SUM(C14:N14) -> 262775.01
A15: 12 | B15: CANDELARIA LOXICHA | C15: ='1ER AJUST. CUATRIMESTRAL'!C15+'JUNIO ORDINARIO'!C15 -> 1242649.1 | D15: ='1ER AJUST. CUATRIMESTRAL'!D15+'JUNIO ORDINARIO'!D15 -> 94580.06 | E15: ='1ER AJUST. CUATRIMESTRAL'!E15+'JUNIO ORDINARIO'!E15 -> 16288.63 | F15: 10001.26 | G15: 29815.13 | H15: 5669.38 | I15: 27828.32 | J15: 1354.09 | K15: 3723.8 | L15: 0 | M15: 4893.24 | N15: 0 | O15: =SUM(C15:N15) -> 1436803
... A573: 570 | B573: ZIMATLAN DE ALVAREZ | C573: ='1ER AJUST. CUATRIMESTRAL'!C573+'JUNIO ORDINARIO'!C573 -> 2672872 | D573: ='1ER AJUST. CUATRIMESTRAL'!D573+'JUNIO ORDINARIO'!D573 -> 1011777.4 | E573: ='1ER AJUST. CUATRIMESTRAL'!E573+'JUNIO ORDINARIO'!E573 -> 33520.76 | F573: 20964.66 | G573: 56247.71 | H573: 12109.48 | I573: 56805.58 | J573: 3093.7 | K573: 7790.1 | L573: 242047 | M573: 7796.71 | N573: 0 | O573: =SUM(C573:N573) -> 4125025.1
A574: TOTAL | C574: =SUM(C4:C573) -> 6.0665245e+08 | D574: =SUM(D4:D573) -> 2.0208734e+08 | E574: =SUM(E4:E573) -> 7814448.6 | F574: =SUM(F4:F573) -> 6449297.3 | G574: =SUM(G4:G573) -> 10602130 | H574: =SUM(H4:H573) -> 2727557 | I574: =SUM(I4:I573) -> 11510255 | J574: =SUM(J4:J573) -> 764400.2 | ... N574: =SUM(N4:N573) -> 1386833.9 | O574: =SUM(C574:N574) -> 8.8347732e+08
B575: NOTA: LAS SUMATORIAS DE CADA CONCEPTO PUEDE NO COINCIDIR POR EL REDONDEO

Sheet JUNIO ORDINARIO
A1: En cumplimiento a lo dispuesto en el artículo 11 párrafo último de la Ley de Coordinación Fiscal para el Estado de Oaxaca y numeral 5 fracción II, inciso b del Acuerdo por el que se expiden los Lineamientos para la publicación de la información a que se refiere el articulo 6o. de la Ley de Coordinación Fiscal.
A2: I. Importe de las Participaciones pagadas a los Municipios del Estado de Oaxaca correspondiente al mes de JUNIO de 2026, incluye los Ajustes Definitivos 2025 (Negativos), del Fondo General de Participaciones y del Fondo de Fiscalización y Recaudación.
A3: CLAVE | B3: MUNICIPIO | C3: FONDO GENERAL DE PARTICIPACIONES | D3: FONDO DE FOMENTO MUNICIPAL | E3: FONDO DE IMPUESTOS ESPECIALES SOBRE PRODUCCION Y SERVICIOS | F3: FONDO DE FISCALIZACION Y RECAUDACIÓN | G3: FONDO DE COMPENSACION | H3: IMPUESTO SOBRE AUTOMÓVILES NUEVOS | I3: IMPUESTO A LAS VENTAS FINALES DE GASOLINAS Y DIESEL | J3: FONDO DE COMPENSACION DEL IMPUESTO SOBRE AUTOMOVILES NUEVOS ISAN | K3: ISR ARTICULO 126 | L3: ISR 3-B | M3: IMPUESTO SOBRE LA VENTA FINAL DE BEBIDAS CON CONTENIDO ALCOHÓLICO (CORRESPONDIENTE AL EJERCICIO 2024) | N3: HIDROCARBUROS | O3: TOTAL
A4: 1 | B4: ABEJONES | C4: 141201.29 | D4: 53141.6 | E4: 2127.62 | F4: 5654.05 | G4: 2166.32 | H4: 674.21 | I4: 1639.87 | J4: 458.79 | K4: 170.09 | L4: 0 | M4: 2149.73 | N4: 0 | O4: =SUM(C4:N4) -> 209383.57
A5: 2 | B5: ACATLAN DE PEREZ FIGUEROA | C5: 3646003.8 | D5: 1524315.8 | E5: 38773.03 | F5: 54990.75 | G5: 115746.71 | H5: 18922.27 | I5: 95418.01 | J5: 6016.5 | K5: 10912.76 | L5: 0 | M5: 13927.81 | N5: 42150.05 | O5: =SUM(C5:N5) -> 5567177.4
A6: 3 | B6: ASUNCION CACALOTEPEC | C6: 232979.64 | D6: 49565.6 | E6: 2934.35 | F6: 6004.25 | G6: 6644.58 | H6: 1169.79 | I6: 4996.19 | J6: 542.95 | K6: 522.32 | L6: 0 | M6: 2603.04 | N6: 0 | O6: =SUM(C6:N6) -> 307962.71
A7: 4 | B7: ASUNCION CUYOTEPEJI | C7: 135830.98 | D7: 58779.27 | E7: 1685.54 | F7: 3316.59 | G7: 2811.64 | H7: 685.94 | I7: 2541.92 | J7: 333.14 | K7: 316.67 | L7: 0 | M7: 2220.41 | N7: 0 | O7: =SUM(C7:N7) -> 208522.1
A8: 5 | B8: ASUNCION IXTALTEPEC | C8: 1968777.9 | D8: 410857.74 | E8: 20316.34 | F8: 30469.24 | G8: 38470.2 | H8: 10077.27 | I8: 40451.95 | J8: 3066.47 | K8: 5674.62 | L8: 0 | M8: 5981.34 | N8: 0 | O8: =SUM(C8:N8) -> 2534143.1
A9: 6 | B9: ASUNCION NOCHIXTLAN | C9: 2522819.2 | D9: 809763.15 | E9: 23263.36 | F9: 22490.13 | G9: 52017.61 | H9: 13237.39 | I9: 57890.61 | J9: 3054.98 | K9: 8491.95 | L9: 137987 | M9: 7363.86 | N9: 0 | O9: =SUM(C9:N9) -> 3658379.2
A10: 7 | B10: ASUNCION OCOTLAN | C10: 283113.41 | D10: 84463.28 | E10: 3794.78 | F10: 9098.52 | G10: 6402.23 | H10: 1378.24 | I10: 4669.95 | J10: 779.03 | K10: 484.36 | L10: 0 | M10: 2562.66 | N10: 0 | O10: =SUM(C10:N10) -> 396746.46
A11: 8 | B11: ASUNCION TLACOLULITA | C11: 141335.53 | D11: 55708.58 | E11: 1791.9 | F11: 4012.46 | G11: 1880.88 | H11: 695.52 | I11: 1975.32 | J11: 330.59 | K11: 280.12 | L11: 0 | M11: 2121.3 | N11: 0 | O11: =SUM(C11:N11) -> 210132.2
A12: 9 | B12: AYOTZINTEPEC | C12: 529100.15 | D12: 167022.62 | E12: 5714 | F12: 9868.05 | G12: 17631.09 | H12: 2679.42 | I12: 13370.3 | J12: 1043.47 | K12: 1386.75 | L12: 0 | M12: 3748.28 | N12: 0 | O12: =SUM(C12:N12) -> 751564.13
A13: 10 | B13: EL BARRIO DE LA SOLEDAD | C13: 2389805.5 | D13: 401234.52 | E13: 21895.06 | F13: 4273.32 | G13: 33900.22 | H13: 13234.42 | I13: 55996.54 | J13: 1892.22 | K13: 9918.43 | L13: 0 | M13: 5506.51 | N13: 0 | O13: =SUM(C13:N13) -> 2937656.8
A14: 11 | B14: CALIHUALA | C14: 147862.71 | D14: 60024.07 | E14: 1980 | F14: 4386.5 | G14: 3669.32 | H14: 734.73 | I14: 2776.56 | J14: 380.36 | K14: 293.9 | L14: 0 | M14: 2298.8 | N14: 0 | O14: =SUM(C14:N14) -> 224406.95
A15: 12 | B15: CANDELARIA LOXICHA | C15: 1057637.8 | D15: 94580.06 | E15: 10760.35 | F15: 10001.26 | G15: 29815.13 | H15: 5669.38 | I15: 27828.32 | J15: 1354.09 | K15: 3723.8 | L15: 0 | M15: 4893.24 | N15: 0 | O15: =SUM(C15:N15) -> 1246263.5
... A573: 570 | B573: ZIMATLAN DE ALVAREZ | C573: 2285833 | D573: 644145.65 | E573: 21955.74 | F573: 20964.66 | G573: 56247.71 | H573: 12109.48 | I573: 56805.58 | J573: 3093.7 | K573: 7790.1 | L573: 242047 | M573: 7796.71 | N573: 0 | O573: =SUM(C573:N573) -> 3358789.3
A574: TOTAL | C574: =SUM(C4:C573) -> 5.2361375e+08 | D574: =SUM(D4:D573) -> 1.4784214e+08 | E574: =SUM(E4:E573) -> 5333188.6 | F574: =SUM(F4:F573) -> 6449297.3 | G574: =SUM(G4:G573) -> 10602130 | H574: =SUM(H4:H573) -> 2727557 | I574: =SUM(I4:I573) -> 11510255 | J574: =SUM(J4:J573) -> 764400.2 | ... N574: =SUM(N4:N573) -> 1386833.9 | O574: =SUM(C574:N574) -> 7.4371216e+08
B575: NOTA: LAS SUMATORIAS DE CADA CONCEPTO PUEDE NO COINCIDIR POR EL REDONDEO

Sheet 1ER AJUST. CUATRIMESTRAL
A1: En cumplimiento a lo dispuesto en el artículo 11 párrafo último de la Ley de Coordinación Fiscal para el Estado de Oaxaca y numeral 5 fracción II, inciso b del Acuerdo por el que se expiden los Lineamientos para la publicación de la información a que se refiere el articulo 6o. de la Ley de Coordinación Fiscal.
A2: I. Importe de las Participaciones pagadas a los Municipios del Estado de Oaxaca correspondiente al 1er Ajuste Cuatrimestral 2026 del Fondo General de Participaciones, del Fondo de Fomento Municipal y del Fondo de Impuesto Especial de Producción y Servicios.
A3: CLAVE | B3: MUNICIPIO | C3: 1er AJUSTE CUATRIMESTRAL 2026 DEL FGP. | D3: 1er AJUSTE CUATRIMESTRAL 2026 DEL FFM. | E3: 1er AJUSTE CUATRIMESTRAL 2026 DEL FIEPS. | F3: TOTAL AJUSTE
A4: 1 | B4: ABEJONES | C4: 8450.57 | D4: 0 | E4: 252.51 | F4: =SUM(C4:E4) -> 8703.08
A5: 2 | B5: ACATLAN DE PEREZ FIGUEROA | C5: 542183.42 | D5: 1024640.2 | E5: 16200.86 | F5: =SUM(C5:E5) -> 1583024.5
A6: 3 | B6: ASUNCION CACALOTEPEC | C6: 25950.89 | D6: 0 | E6: 775.43 | F6: =SUM(C6:E6) -> 26726.32
A7: 4 | B7: ASUNCION CUYOTEPEJI | C7: 15733.05 | D7: 24314.5 | E7: 470.12 | F7: =SUM(C7:E7) -> 40517.67
A8: 5 | B8: ASUNCION IXTALTEPEC | C8: 281934.65 | D8: 124265.46 | E8: 8424.42 | F8: =SUM(C8:E8) -> 414624.53
A9: 6 | B9: ASUNCION NOCHIXTLAN | C9: 421909.36 | D9: 419469.4 | E9: 12606.97 | F9: =SUM(C9:E9) -> 853985.73
A10: 7 | B10: ASUNCION OCOTLAN | C10: 24064.69 | D10: 0 | E10: 719.07 | F10: =SUM(C10:E10) -> 24783.76
A11: 8 | B11: ASUNCION TLACOLULITA | C11: 13917.48 | D11: 5468.38 | E11: 415.87 | F11: =SUM(C11:E11) -> 19801.73
A12: 9 | B12: AYOTZINTEPEC | C12: 68898.35 | D12: 0 | E12: 2058.74 | F12: =SUM(C12:E12) -> 70957.09
A13: 10 | B13: EL BARRIO DE LA SOLEDAD | C13: 492781.56 | D13: 224209.91 | E13: 14724.69 | F13: =SUM(C13:E13) -> 731716.16
A14: 11 | B14: CALIHUALA | C14: 14602.19 | D14: 23329.55 | E14: 436.32 | F14: =SUM(C14:E14) -> 38368.06
A15: 12 | B15: CANDELARIA LOXICHA | C15: 185011.25 | D15: 0 | E15: 5528.28 | F15: =SUM(C15:E15) -> 190539.53
... A573: 570 | B573: ZIMATLAN DE ALVAREZ | C573: 387039.08 | D573: 367631.71 | E573: 11565.02 | F573: =SUM(C573:E573) -> 766235.81
A574: TOTAL | C574: =SUM(C4:C573) -> 83038700 | D574: =SUM(D4:D573) -> 54245203 | E574: =SUM(E4:E573) -> 2481260 | F574: =SUM(F4:F573) -> 1.3976516e+08

Sheet TOTAL PAGADO
A1: En cumplimiento a lo dispuesto en el artículo 11 párrafo último de la Ley de Coordinación Fiscal para el Estado de Oaxaca y numeral 5 fracción II, inciso b del Acuerdo por el que se expiden los Lineamientos para la publicación de la información a que se refiere el articulo 6o. de la Ley de Coordinación Fiscal.
A2: I. Importe Total de las Participaciones pagadas a los Municipios del Estado de Oaxaca correspondiente al mes de JUNIO de 2026.
A3: CLAVE | B3: MUNICIPIO | C3: JUNIO ORDINARIO | D3: TOTAL AJUSTE | E3: TOTAL PAGADO
A4: 1 | B4: ABEJONES | C4: =+'JUNIO ORDINARIO'!O4 -> 209383.57 | D4: =+'1ER AJUST. CUATRIMESTRAL'!F4 -> 8703.08 | E4: =SUM(C4:D4) -> 218086.65
A5: 2 | B5: ACATLAN DE PEREZ FIGUEROA | C5: =+'JUNIO ORDINARIO'!O5 -> 5567177.4 | D5: =+'1ER AJUST. CUATRIMESTRAL'!F5 -> 1583024.5 | E5: =SUM(C5:D5) -> 7150201.9
A6: 3 | B6: ASUNCION CACALOTEPEC | C6: =+'JUNIO ORDINARIO'!O6 -> 307962.71 | D6: =+'1ER AJUST. CUATRIMESTRAL'!F6 -> 26726.32 | E6: =SUM(C6:D6) -> 334689.03
A7: 4 | B7: ASUNCION CUYOTEPEJI | C7: =+'JUNIO ORDINARIO'!O7 -> 208522.1 | D7: =+'1ER AJUST. CUATRIMESTRAL'!F7 -> 40517.67 | E7: =SUM(C7:D7) -> 249039.77
A8: 5 | B8: ASUNCION IXTALTEPEC | C8: =+'JUNIO ORDINARIO'!O8 -> 2534143.1 | D8: =+'1ER AJUST. CUATRIMESTRAL'!F8 -> 414624.53 | E8: =SUM(C8:D8) -> 2948767.6
A9: 6 | B9: ASUNCION NOCHIXTLAN | C9: =+'JUNIO ORDINARIO'!O9 -> 3658379.2 | D9: =+'1ER AJUST. CUATRIMESTRAL'!F9 -> 853985.73 | E9: =SUM(C9:D9) -> 4512365
A10: 7 | B10: ASUNCION OCOTLAN | C10: =+'JUNIO ORDINARIO'!O10 -> 396746.46 | D10: =+'1ER AJUST. CUATRIMESTRAL'!F10 -> 24783.76 | E10: =SUM(C10:D10) -> 421530.22
A11: 8 | B11: ASUNCION TLACOLULITA | C11: =+'JUNIO ORDINARIO'!O11 -> 210132.2 | D11: =+'1ER AJUST. CUATRIMESTRAL'!F11 -> 19801.73 | E11: =SUM(C11:D11) -> 229933.93
A12: 9 | B12: AYOTZINTEPEC | C12: =+'JUNIO ORDINARIO'!O12 -> 751564.13 | D12: =+'1ER AJUST. CUATRIMESTRAL'!F12 -> 70957.09 | E12: =SUM(C12:D12) -> 822521.22
A13: 10 | B13: EL BARRIO DE LA SOLEDAD | C13: =+'JUNIO ORDINARIO'!O13 -> 2937656.8 | D13: =+'1ER AJUST. CUATRIMESTRAL'!F13 -> 731716.16 | E13: =SUM(C13:D13) -> 3669372.9
A14: 11 | B14: CALIHUALA | C14: =+'JUNIO ORDINARIO'!O14 -> 224406.95 | D14: =+'1ER AJUST. CUATRIMESTRAL'!F14 -> 38368.06 | E14: =SUM(C14:D14) -> 262775.01
A15: 12 | B15: CANDELARIA LOXICHA | C15: =+'JUNIO ORDINARIO'!O15 -> 1246263.5 | D15: =+'1ER AJUST. CUATRIMESTRAL'!F15 -> 190539.53 | E15: =SUM(C15:D15) -> 1436803
... A573: 570 | B573: ZIMATLAN DE ALVAREZ | C573: =+'JUNIO ORDINARIO'!O573 -> 3358789.3 | D573: =+'1ER AJUST. CUATRIMESTRAL'!F573 -> 766235.81 | E573: =SUM(C573:D573) -> 4125025.1
A574: TOTAL | C574: =SUM(C4:C573) -> 7.4371216e+08 | D574: =SUM(D4:D573) -> 1.3976516e+08 | E574: =SUM(E4:E573) -> 8.8347732e+08
